BEGIN:VCALENDAR
VERSION:2.0
PRODID:-//Trestads Veteranbilklubb - ECPv6.15.17.1//NONSGML v1.0//EN
CALSCALE:GREGORIAN
METHOD:PUBLISH
X-ORIGINAL-URL:https://tuv.nu
X-WR-CALDESC:Händelser för Trestads Veteranbilklubb
REFRESH-INTERVAL;VALUE=DURATION:PT1H
X-Robots-Tag:noindex
X-PUBLISHED-TTL:PT1H
BEGIN:VTIMEZONE
TZID:Europe/Stockholm
BEGIN:DAYLIGHT
TZOFFSETFROM:+0100
TZOFFSETTO:+0200
TZNAME:CEST
DTSTART:20250330T010000
END:DAYLIGHT
BEGIN:STANDARD
TZOFFSETFROM:+0200
TZOFFSETTO:+0100
TZNAME:CET
DTSTART:20251026T010000
END:STANDARD
BEGIN:DAYLIGHT
TZOFFSETFROM:+0100
TZOFFSETTO:+0200
TZNAME:CEST
DTSTART:20260329T010000
END:DAYLIGHT
BEGIN:STANDARD
TZOFFSETFROM:+0200
TZOFFSETTO:+0100
TZNAME:CET
DTSTART:20261025T010000
END:STANDARD
BEGIN:DAYLIGHT
TZOFFSETFROM:+0100
TZOFFSETTO:+0200
TZNAME:CEST
DTSTART:20270328T010000
END:DAYLIGHT
BEGIN:STANDARD
TZOFFSETFROM:+0200
TZOFFSETTO:+0100
TZNAME:CET
DTSTART:20271031T010000
END:STANDARD
END:VTIMEZONE
BEGIN:VEVENT
DTSTART;TZID=Europe/Stockholm:20260423T183000
DTEND;TZID=Europe/Stockholm:20260423T210000
DTSTAMP:20260422T115728
CREATED:20251206T152603Z
LAST-MODIFIED:20260329T174206Z
UID:4375-1776969000-1776978000@tuv.nu
SUMMARY:2026-04-23 Månadsmöte Åsaka bygdegård.
DESCRIPTION:Medlemsmöte Åsaka Bygdegård kl 18\,30. Vi får besök av Karl Ask från MHRF som kommer med senaste info.
URL:https://tuv.nu/aktuell/2026-04-23-manadsmote/
END:VEVENT
BEGIN:VEVENT
DTSTART;TZID=Europe/Stockholm:20260510T100000
DTEND;TZID=Europe/Stockholm:20260510T140000
DTSTAMP:20260422T115728
CREATED:20260329T072137Z
LAST-MODIFIED:20260419T144745Z
UID:4520-1778407200-1778421600@tuv.nu
SUMMARY:2026-05-10 Vårresa till Alfs motormuseum.
DESCRIPTION:  \nVälkommen på en vårtur till  Alfs motormuseum i Lidköping Söndagen den 10 maj.  \nAvfärd från Saab Car Museum Åkersjövägen kl 10.00 för de som vill åka gemensamt i\nsamlad trupp på lite fina småvägar. \nKlubben står för halva inträdet 50: – mot uppvisande av medlemskort samt hela inträdet\nför barn 12 år och yngre. \nAlfs motormuseum finns på Rörstrand Center. Här samlas mer än 100 klassiska bilar\,\nmopeder\, traktorer och motorer sida vid sida på drygt 3 000 kvm b.la den unika\nJohnssonbilen som tillverkades i Lidköping 1921-
URL:https://tuv.nu/aktuell/2026-05-10-varcruising-till-alfs-motormuseum/
END:VEVENT
BEGIN:VEVENT
DTSTART;TZID=Europe/Stockholm:20260603T170000
DTEND;TZID=Europe/Stockholm:20260826T170000
DTSTAMP:20260422T115728
CREATED:20260329T075255Z
LAST-MODIFIED:20260329T075255Z
UID:4534-1780506000-1787763600@tuv.nu
SUMMARY:2026-06-03 Slussträffar onsdagar Juni\, Juli och Augusti.
DESCRIPTION:Slussträffar onsdagar Juni\, Juli och Augusti start kl. 17\,00.
URL:https://tuv.nu/aktuell/2026-06-03-slusstraffar-onsdagar-juni-juli-och-augusti/
END:VEVENT
BEGIN:VEVENT
DTSTART;TZID=Europe/Stockholm:20260606T080000
DTEND;TZID=Europe/Stockholm:20260606T140000
DTSTAMP:20260422T115728
CREATED:20260329T073451Z
LAST-MODIFIED:20260329T074252Z
UID:4522-1780732800-1780754400@tuv.nu
SUMMARY:2026-06-06 Motorhistoriskadagen. Saab Car museum.
DESCRIPTION:2026-06-06 Motorhistoriska dagen. Trestads Veteranbilsklubb i samarbete med Saab klubben Trollhättan\, Saab Car museum och MHRF. Mer info kommer
URL:https://tuv.nu/aktuell/2026-06-06-motorhistoriskadagen/
END:VEVENT
BEGIN:VEVENT
DTSTART;TZID=Europe/Stockholm:20260612T180000
DTEND;TZID=Europe/Stockholm:20260612T210000
DTSTAMP:20260422T115728
CREATED:20260329T074745Z
LAST-MODIFIED:20260329T075401Z
UID:4530-1781287200-1781298000@tuv.nu
SUMMARY:2026-06-12  Orvars träff i Prässebo.
DESCRIPTION:Orvars träff i Prässebo samling kl. 18\,00.
URL:https://tuv.nu/aktuell/2026-066-12-orvars-traff-i-prassebo/
END:VEVENT
BEGIN:VEVENT
DTSTART;TZID=Europe/Stockholm:20260909T180000
DTEND;TZID=Europe/Stockholm:20260909T210000
DTSTAMP:20260422T115728
CREATED:20260329T075552Z
LAST-MODIFIED:20260329T075631Z
UID:4537-1788976800-1788987600@tuv.nu
SUMMARY:2026-09-02 Avslutning slussträffar. Träffen Båberg kl. 18\,00.
DESCRIPTION:
URL:https://tuv.nu/aktuell/2026-09-02-avslutning-slusstraffar-traffen-baberg-kl-1800/
END:VEVENT
END:VCALENDAR